View In:
ArcGIS JavaScript
ArcGIS Online Map Viewer
ArcGIS Earth
Service Description: ATLAS/RETHIMNO_AG_VASILEIOS
Name: ATLAS/RETHIMNO_AG_VASILEIOS
Description:
Single Fused Map Cache: false
Extent:
XMin: 513801.283923215
YMin: 3869718.4821761954
XMax: 569946.1795612106
YMax: 3919853.7022379744
Spatial Reference: 2100
(2100)
LatestVCSWkid(0)
Initial Extent:
XMin: 513801.283923215
YMin: 3869718.4821761954
XMax: 569946.1795612106
YMax: 3919853.7022379744
Spatial Reference: 2100
(2100)
LatestVCSWkid(0)
Full Extent:
XMin: 513801.283923215
YMin: 3869718.4821761954
XMax: 569946.1795612106
YMax: 3919853.7022379744
Spatial Reference: 2100
(2100)
LatestVCSWkid(0)
Pixel Size X: 7.120468692199818
Pixel Size Y: 7.120468692199832
Band Count: 3
Pixel Type: U8
RasterFunction Infos: {"rasterFunctionInfos": [{
"name": "None",
"description": "",
"help": ""
}]}
Mensuration Capabilities: Basic
Inspection Capabilities:
Has Histograms: true
Has Colormap: false
Has Multi Dimensions : false
Rendering Rule:
Min Scale: 0
Max Scale: 0
Copyright Text:
Service Data Type: esriImageServiceDataTypeRGB
Min Values: 0, 0, 0
Max Values: 255, 255, 255
Mean Values: 236.28226313189, 237.2150766545, 223.53218446859
Standard Deviation Values: 35.641955818473, 32.584630272937, 30.847746338265
Object ID Field:
Fields:
None
Default Mosaic Method: Center
Allowed Mosaic Methods:
SortField:
SortValue: null
Mosaic Operator: First
Default Compression Quality: 75
Default Resampling Method: Bilinear
Max Record Count: null
Max Image Height: 4100
Max Image Width: 15000
Max Download Image Count: null
Max Mosaic Image Count: null
Allow Raster Function: true
Allow Copy: true
Allow Analysis: true
Allow Compute TiePoints: false
Supports Statistics: false
Supports Advanced Queries: false
Use StandardizedQueries: true
Raster Type Infos:
Name: Raster Dataset
Description: Supports all ArcGIS Raster Datasets
Help:
Has Raster Attribute Table: false
Edit Fields Info: null
Ownership Based AccessControl For Rasters: null
Child Resources:
Info
Histograms
Statistics
Key Properties
Legend
Raster Function Infos
Supported Operations:
Export Image
Identify
Measure
Compute Histograms
Compute Statistics Histograms
Get Samples
Compute Class Statistics
Query Boundary
Compute Pixel Location
Compute Angles
Validate
Project