{
 "currentVersion": 11.4,
 "serviceDescription": "ATLAS/RETHIMNO_AG_VASILEIOS",
 "name": "ATLAS/RETHIMNO_AG_VASILEIOS",
 "description": "",
 "extent": {
  "xmin": 513801.283923215,
  "ymin": 3869718.4821761954,
  "xmax": 569946.1795612106,
  "ymax": 3919853.7022379744,
  "spatialReference": {
   "wkid": 2100,
   "latestWkid": 2100
  }
 },
 "initialExtent": {
  "xmin": 513801.283923215,
  "ymin": 3869718.4821761954,
  "xmax": 569946.1795612106,
  "ymax": 3919853.7022379744,
  "spatialReference": {
   "wkid": 2100,
   "latestWkid": 2100
  }
 },
 "fullExtent": {
  "xmin": 513801.283923215,
  "ymin": 3869718.4821761954,
  "xmax": 569946.1795612106,
  "ymax": 3919853.7022379744,
  "spatialReference": {
   "wkid": 2100,
   "latestWkid": 2100
  }
 },
 "sortableFields": "",
 "bandCount": 3,
 "pixelType": "U8",
 "minValues": [
  0,
  0,
  0
 ],
 "maxValues": [
  255,
  255,
  255
 ],
 "meanValues": [
  236.28226313189,
  237.2150766545,
  223.53218446859
 ],
 "stdvValues": [
  35.641955818473,
  32.584630272937,
  30.847746338265
 ],
 "hasMultidimensions": false,
 "pixelSizeX": 7.120468692199818,
 "pixelSizeY": 7.120468692199832,
 "meanPixelSize": 7.120468692199825,
 "datasetFormat": "FGDBR",
 "uncompressedSize": 166554855,
 "blockWidth": 128,
 "blockHeight": 128,
 "compressionType": "LZ77",
 "bandNames": [
  "Band_1",
  "Band_2",
  "Band_3"
 ],
 "allowCopy": true,
 "allowAnalysis": true,
 "itemAccess": false,
 "inspectionCapabilities": "",
 "minPixelSize": 0,
 "maxPixelSize": 0,
 "copyrightText": "",
 "serviceDataType": "esriImageServiceDataTypeRGB",
 "serviceSourceType": "esriImageServiceSourceTypeDataset",
 "objectIdField": "",
 "fields": [],
 "capabilities": "Image,Metadata,Mensuration",
 "defaultMosaicMethod": "Center",
 "allowedMosaicMethods": "",
 "sortField": "",
 "sortValue": null,
 "sortAscending": true,
 "mosaicOperator": "First",
 "defaultCompressionQuality": 75,
 "defaultResamplingMethod": "Bilinear",
 "maxImageHeight": 4100,
 "maxImageWidth": 15000,
 "allowRasterFunction": true,
 "rasterFunctionInfos": [
  {
   "name": "None",
   "description": "",
   "help": ""
  }
 ],
 "rasterTypeInfos": [
  {
   "name": "Raster Dataset",
   "description": "Supports all ArcGIS Raster Datasets",
   "help": ""
  }
 ],
 "mensurationCapabilities": "Basic",
 "hasHistograms": true,
 "hasColormap": false,
 "hasRasterAttributeTable": false,
 "minScale": 0,
 "maxScale": 0,
 "exportTilesAllowed": false,
 "supportsStatistics": false,
 "supportsAdvancedQueries": false,
 "editFieldsInfo": null,
 "ownershipBasedAccessControlForRasters": null,
 "allowComputeTiePoints": false,
 "useStandardizedQueries": true,
 "advancedQueryCapabilities": {
  "useStandardizedQueries": true,
  "supportsStatistics": false,
  "supportsOrderBy": false,
  "supportsDistinct": false,
  "supportsPagination": false
 },
 "spatialReference": {
  "wkid": 2100,
  "latestWkid": 2100
 }
}
