View In:
ArcGIS JavaScript
ArcGIS Online Map Viewer
ArcGIS Earth
Service Description: ATLAS/R005_MAGNHSIA_VOLOS
Name: ATLAS/R005_MAGNHSIA_VOLOS
Description:
Single Fused Map Cache: false
Extent:
XMin: 374641.16237824515
YMin: 4323585.199659534
XMax: 446554.94710013736
YMax: 4385970.885726473
Spatial Reference: 2100
(2100)
LatestVCSWkid(0)
Initial Extent:
XMin: 374641.16237824515
YMin: 4323585.199659534
XMax: 446554.94710013736
YMax: 4385970.885726473
Spatial Reference: 2100
(2100)
LatestVCSWkid(0)
Full Extent:
XMin: 374641.16237824515
YMin: 4323585.199659534
XMax: 446554.94710013736
YMax: 4385970.885726473
Spatial Reference: 2100
(2100)
LatestVCSWkid(0)
Pixel Size X: 7.078825152268157
Pixel Size Y: 7.078825152268183
Band Count: 3
Pixel Type: U8
RasterFunction Infos: {"rasterFunctionInfos": [{
"name": "None",
"description": "",
"help": ""
}]}
Mensuration Capabilities: Basic
Inspection Capabilities:
Has Histograms: true
Has Colormap: false
Has Multi Dimensions : false
Rendering Rule:
Min Scale: 0
Max Scale: 0
Copyright Text:
Service Data Type: esriImageServiceDataTypeRGB
Min Values: 0, 0, 0
Max Values: 255, 255, 255
Mean Values: 233.40202672248, 239.14616751545, 222.64290828459
Standard Deviation Values: 37.566905108321, 33.559941412931, 32.828571279752
Object ID Field:
Fields:
None
Default Mosaic Method: Center
Allowed Mosaic Methods:
SortField:
SortValue: null
Mosaic Operator: First
Default Compression Quality: 75
Default Resampling Method: Bilinear
Max Record Count: null
Max Image Height: 4100
Max Image Width: 15000
Max Download Image Count: null
Max Mosaic Image Count: null
Allow Raster Function: true
Allow Copy: true
Allow Analysis: true
Allow Compute TiePoints: false
Supports Statistics: false
Supports Advanced Queries: false
Use StandardizedQueries: true
Raster Type Infos:
Name: Raster Dataset
Description: Supports all ArcGIS Raster Datasets
Help:
Has Raster Attribute Table: false
Edit Fields Info: null
Ownership Based AccessControl For Rasters: null
Child Resources:
Info
Histograms
Statistics
Key Properties
Legend
Raster Function Infos
Supported Operations:
Export Image
Identify
Measure
Compute Histograms
Compute Statistics Histograms
Get Samples
Compute Class Statistics
Query Boundary
Compute Pixel Location
Compute Angles
Validate
Project