{
 "currentVersion": 11.4,
 "serviceDescription": "ATLAS/R005_MAGNHSIA_VOLOS",
 "name": "ATLAS/R005_MAGNHSIA_VOLOS",
 "description": "",
 "extent": {
  "xmin": 374641.16237824515,
  "ymin": 4323585.199659534,
  "xmax": 446554.94710013736,
  "ymax": 4385970.885726473,
  "spatialReference": {
   "wkid": 2100,
   "latestWkid": 2100
  }
 },
 "initialExtent": {
  "xmin": 374641.16237824515,
  "ymin": 4323585.199659534,
  "xmax": 446554.94710013736,
  "ymax": 4385970.885726473,
  "spatialReference": {
   "wkid": 2100,
   "latestWkid": 2100
  }
 },
 "fullExtent": {
  "xmin": 374641.16237824515,
  "ymin": 4323585.199659534,
  "xmax": 446554.94710013736,
  "ymax": 4385970.885726473,
  "spatialReference": {
   "wkid": 2100,
   "latestWkid": 2100
  }
 },
 "sortableFields": "",
 "bandCount": 3,
 "pixelType": "U8",
 "minValues": [
  0,
  0,
  0
 ],
 "maxValues": [
  255,
  255,
  255
 ],
 "meanValues": [
  233.40202672248,
  239.14616751545,
  222.64290828459
 ],
 "stdvValues": [
  37.566905108321,
  33.559941412931,
  32.828571279752
 ],
 "hasMultidimensions": false,
 "pixelSizeX": 7.078825152268157,
 "pixelSizeY": 7.078825152268183,
 "meanPixelSize": 7.07882515226817,
 "datasetFormat": "FGDBR",
 "uncompressedSize": 268593801,
 "blockWidth": 128,
 "blockHeight": 128,
 "compressionType": "LZ77",
 "bandNames": [
  "Band_1",
  "Band_2",
  "Band_3"
 ],
 "allowCopy": true,
 "allowAnalysis": true,
 "itemAccess": false,
 "inspectionCapabilities": "",
 "minPixelSize": 0,
 "maxPixelSize": 0,
 "copyrightText": "",
 "serviceDataType": "esriImageServiceDataTypeRGB",
 "serviceSourceType": "esriImageServiceSourceTypeDataset",
 "objectIdField": "",
 "fields": [],
 "capabilities": "Image,Metadata,Mensuration",
 "defaultMosaicMethod": "Center",
 "allowedMosaicMethods": "",
 "sortField": "",
 "sortValue": null,
 "sortAscending": true,
 "mosaicOperator": "First",
 "defaultCompressionQuality": 75,
 "defaultResamplingMethod": "Bilinear",
 "maxImageHeight": 4100,
 "maxImageWidth": 15000,
 "allowRasterFunction": true,
 "rasterFunctionInfos": [
  {
   "name": "None",
   "description": "",
   "help": ""
  }
 ],
 "rasterTypeInfos": [
  {
   "name": "Raster Dataset",
   "description": "Supports all ArcGIS Raster Datasets",
   "help": ""
  }
 ],
 "mensurationCapabilities": "Basic",
 "hasHistograms": true,
 "hasColormap": false,
 "hasRasterAttributeTable": false,
 "minScale": 0,
 "maxScale": 0,
 "exportTilesAllowed": false,
 "supportsStatistics": false,
 "supportsAdvancedQueries": false,
 "editFieldsInfo": null,
 "ownershipBasedAccessControlForRasters": null,
 "allowComputeTiePoints": false,
 "useStandardizedQueries": true,
 "advancedQueryCapabilities": {
  "useStandardizedQueries": true,
  "supportsStatistics": false,
  "supportsOrderBy": false,
  "supportsDistinct": false,
  "supportsPagination": false
 },
 "spatialReference": {
  "wkid": 2100,
  "latestWkid": 2100
 }
}
