View In:
ArcGIS JavaScript
ArcGIS Online Map Viewer
ArcGIS Earth
Service Description: ATLAS/AIGIALEIA
Name: ATLAS/AIGIALEIA
Description:
Single Fused Map Cache: false
Extent:
XMin: 312470.3517961526
YMin: 4195063.096001486
XMax: 376415.0527292682
YMax: 4245826.557969248
Spatial Reference: 2100
(2100)
LatestVCSWkid(0)
Initial Extent:
XMin: 312470.3517961526
YMin: 4195063.096001486
XMax: 376415.0527292682
YMax: 4245826.557969248
Spatial Reference: 2100
(2100)
LatestVCSWkid(0)
Full Extent:
XMin: 312470.3517961526
YMin: 4195063.096001486
XMax: 376415.0527292682
YMax: 4245826.557969248
Spatial Reference: 2100
(2100)
LatestVCSWkid(0)
Pixel Size X: 7.132705067832194
Pixel Size Y: 7.13270506783218
Band Count: 3
Pixel Type: U8
RasterFunction Infos: {"rasterFunctionInfos": [{
"name": "None",
"description": "",
"help": ""
}]}
Mensuration Capabilities: Basic
Inspection Capabilities:
Has Histograms: true
Has Colormap: false
Has Multi Dimensions : false
Rendering Rule:
Min Scale: 0
Max Scale: 0
Copyright Text:
Service Data Type: esriImageServiceDataTypeRGB
Min Values: 0, 0, 0
Max Values: 255, 255, 255
Mean Values: 231.45437284754, 237.87429822677, 227.10458687442
Standard Deviation Values: 53.275220770879, 50.214655527413, 48.468837702383
Object ID Field:
Fields:
None
Default Mosaic Method: Center
Allowed Mosaic Methods:
SortField:
SortValue: null
Mosaic Operator: First
Default Compression Quality: 75
Default Resampling Method: Bilinear
Max Record Count: null
Max Image Height: 4100
Max Image Width: 15000
Max Download Image Count: null
Max Mosaic Image Count: null
Allow Raster Function: true
Allow Copy: true
Allow Analysis: true
Allow Compute TiePoints: false
Supports Statistics: false
Supports Advanced Queries: false
Use StandardizedQueries: true
Raster Type Infos:
Name: Raster Dataset
Description: Supports all ArcGIS Raster Datasets
Help:
Has Raster Attribute Table: false
Edit Fields Info: null
Ownership Based AccessControl For Rasters: null
Child Resources:
Info
Histograms
Statistics
Key Properties
Legend
Raster Function Infos
Supported Operations:
Export Image
Identify
Measure
Compute Histograms
Compute Statistics Histograms
Get Samples
Compute Class Statistics
Query Boundary
Compute Pixel Location
Compute Angles
Validate
Project