{
 "currentVersion": 11.4,
 "serviceDescription": "ATLAS/AIGIALEIA",
 "name": "ATLAS/AIGIALEIA",
 "description": "",
 "extent": {
  "xmin": 312470.3517961526,
  "ymin": 4195063.096001486,
  "xmax": 376415.0527292682,
  "ymax": 4245826.557969248,
  "spatialReference": {
   "wkid": 2100,
   "latestWkid": 2100
  }
 },
 "initialExtent": {
  "xmin": 312470.3517961526,
  "ymin": 4195063.096001486,
  "xmax": 376415.0527292682,
  "ymax": 4245826.557969248,
  "spatialReference": {
   "wkid": 2100,
   "latestWkid": 2100
  }
 },
 "fullExtent": {
  "xmin": 312470.3517961526,
  "ymin": 4195063.096001486,
  "xmax": 376415.0527292682,
  "ymax": 4245826.557969248,
  "spatialReference": {
   "wkid": 2100,
   "latestWkid": 2100
  }
 },
 "sortableFields": "",
 "bandCount": 3,
 "pixelType": "U8",
 "minValues": [
  0,
  0,
  0
 ],
 "maxValues": [
  255,
  255,
  255
 ],
 "meanValues": [
  231.45437284754,
  237.87429822677,
  227.10458687442
 ],
 "stdvValues": [
  53.275220770879,
  50.214655527413,
  48.468837702383
 ],
 "hasMultidimensions": false,
 "pixelSizeX": 7.132705067832194,
 "pixelSizeY": 7.13270506783218,
 "meanPixelSize": 7.1327050678321875,
 "datasetFormat": "FGDBR",
 "uncompressedSize": 191411715,
 "blockWidth": 128,
 "blockHeight": 128,
 "compressionType": "LZ77",
 "bandNames": [
  "Band_1",
  "Band_2",
  "Band_3"
 ],
 "allowCopy": true,
 "allowAnalysis": true,
 "itemAccess": false,
 "inspectionCapabilities": "",
 "minPixelSize": 0,
 "maxPixelSize": 0,
 "copyrightText": "",
 "serviceDataType": "esriImageServiceDataTypeRGB",
 "serviceSourceType": "esriImageServiceSourceTypeDataset",
 "objectIdField": "",
 "fields": [],
 "capabilities": "Image,Metadata,Mensuration",
 "defaultMosaicMethod": "Center",
 "allowedMosaicMethods": "",
 "sortField": "",
 "sortValue": null,
 "sortAscending": true,
 "mosaicOperator": "First",
 "defaultCompressionQuality": 75,
 "defaultResamplingMethod": "Bilinear",
 "maxImageHeight": 4100,
 "maxImageWidth": 15000,
 "allowRasterFunction": true,
 "rasterFunctionInfos": [
  {
   "name": "None",
   "description": "",
   "help": ""
  }
 ],
 "rasterTypeInfos": [
  {
   "name": "Raster Dataset",
   "description": "Supports all ArcGIS Raster Datasets",
   "help": ""
  }
 ],
 "mensurationCapabilities": "Basic",
 "hasHistograms": true,
 "hasColormap": false,
 "hasRasterAttributeTable": false,
 "minScale": 0,
 "maxScale": 0,
 "exportTilesAllowed": false,
 "supportsStatistics": false,
 "supportsAdvancedQueries": false,
 "editFieldsInfo": null,
 "ownershipBasedAccessControlForRasters": null,
 "allowComputeTiePoints": false,
 "useStandardizedQueries": true,
 "advancedQueryCapabilities": {
  "useStandardizedQueries": true,
  "supportsStatistics": false,
  "supportsOrderBy": false,
  "supportsDistinct": false,
  "supportsPagination": false
 },
 "spatialReference": {
  "wkid": 2100,
  "latestWkid": 2100
 }
}
