View In:
ArcGIS JavaScript
ArcGIS Online Map Viewer
ArcGIS Earth
Service Description: ATLAS/AGION_OROS
Name: ATLAS/AGION_OROS
Description:
Single Fused Map Cache: false
Extent:
XMin: 491378.2819468282
YMin: 4435916.405284237
XMax: 539729.6450367429
YMax: 4483608.6595573975
Spatial Reference: 2100
(2100)
LatestVCSWkid(0)
Initial Extent:
XMin: 491378.2819468282
YMin: 4435916.405284237
XMax: 539729.6450367429
YMax: 4483608.6595573975
Spatial Reference: 2100
(2100)
LatestVCSWkid(0)
Full Extent:
XMin: 491378.2819468282
YMin: 4435916.405284237
XMax: 539729.6450367429
YMax: 4483608.6595573975
Spatial Reference: 2100
(2100)
LatestVCSWkid(0)
Pixel Size X: 7.164226269064265
Pixel Size Y: 7.164226269064197
Band Count: 3
Pixel Type: U8
RasterFunction Infos: {"rasterFunctionInfos": [{
"name": "None",
"description": "",
"help": ""
}]}
Mensuration Capabilities: Basic
Inspection Capabilities:
Has Histograms: true
Has Colormap: false
Has Multi Dimensions : false
Rendering Rule:
Min Scale: 0
Max Scale: 0
Copyright Text:
Service Data Type: esriImageServiceDataTypeRGB
Min Values: 0, 0, 0
Max Values: 255, 255, 255
Mean Values: 234.18132754933, 241.05095295275, 226.22257926682
Standard Deviation Values: 41.255096307182, 42.005033554029, 39.74536782084
Object ID Field:
Fields:
None
Default Mosaic Method: Center
Allowed Mosaic Methods:
SortField:
SortValue: null
Mosaic Operator: First
Default Compression Quality: 75
Default Resampling Method: Bilinear
Max Record Count: null
Max Image Height: 4100
Max Image Width: 15000
Max Download Image Count: null
Max Mosaic Image Count: null
Allow Raster Function: true
Allow Copy: true
Allow Analysis: true
Allow Compute TiePoints: false
Supports Statistics: false
Supports Advanced Queries: false
Use StandardizedQueries: true
Raster Type Infos:
Name: Raster Dataset
Description: Supports all ArcGIS Raster Datasets
Help:
Has Raster Attribute Table: false
Edit Fields Info: null
Ownership Based AccessControl For Rasters: null
Child Resources:
Info
Histograms
Statistics
Key Properties
Legend
Raster Function Infos
Supported Operations:
Export Image
Identify
Measure
Compute Histograms
Compute Statistics Histograms
Get Samples
Compute Class Statistics
Query Boundary
Compute Pixel Location
Compute Angles
Validate
Project