{
 "currentVersion": 11.4,
 "serviceDescription": "ATLAS/AGION_OROS",
 "name": "ATLAS/AGION_OROS",
 "description": "",
 "extent": {
  "xmin": 491378.2819468282,
  "ymin": 4435916.405284237,
  "xmax": 539729.6450367429,
  "ymax": 4483608.6595573975,
  "spatialReference": {
   "wkid": 2100,
   "latestWkid": 2100
  }
 },
 "initialExtent": {
  "xmin": 491378.2819468282,
  "ymin": 4435916.405284237,
  "xmax": 539729.6450367429,
  "ymax": 4483608.6595573975,
  "spatialReference": {
   "wkid": 2100,
   "latestWkid": 2100
  }
 },
 "fullExtent": {
  "xmin": 491378.2819468282,
  "ymin": 4435916.405284237,
  "xmax": 539729.6450367429,
  "ymax": 4483608.6595573975,
  "spatialReference": {
   "wkid": 2100,
   "latestWkid": 2100
  }
 },
 "sortableFields": "",
 "bandCount": 3,
 "pixelType": "U8",
 "minValues": [
  0,
  0,
  0
 ],
 "maxValues": [
  255,
  255,
  255
 ],
 "meanValues": [
  234.18132754933,
  241.05095295275,
  226.22257926682
 ],
 "stdvValues": [
  41.255096307182,
  42.005033554029,
  39.74536782084
 ],
 "hasMultidimensions": false,
 "pixelSizeX": 7.164226269064265,
 "pixelSizeY": 7.164226269064197,
 "meanPixelSize": 7.1642262690642315,
 "datasetFormat": "FGDBR",
 "uncompressedSize": 134784279,
 "blockWidth": 128,
 "blockHeight": 128,
 "compressionType": "LZ77",
 "bandNames": [
  "Band_1",
  "Band_2",
  "Band_3"
 ],
 "allowCopy": true,
 "allowAnalysis": true,
 "itemAccess": false,
 "inspectionCapabilities": "",
 "minPixelSize": 0,
 "maxPixelSize": 0,
 "copyrightText": "",
 "serviceDataType": "esriImageServiceDataTypeRGB",
 "serviceSourceType": "esriImageServiceSourceTypeDataset",
 "objectIdField": "",
 "fields": [],
 "capabilities": "Image,Metadata,Mensuration",
 "defaultMosaicMethod": "Center",
 "allowedMosaicMethods": "",
 "sortField": "",
 "sortValue": null,
 "sortAscending": true,
 "mosaicOperator": "First",
 "defaultCompressionQuality": 75,
 "defaultResamplingMethod": "Bilinear",
 "maxImageHeight": 4100,
 "maxImageWidth": 15000,
 "allowRasterFunction": true,
 "rasterFunctionInfos": [
  {
   "name": "None",
   "description": "",
   "help": ""
  }
 ],
 "rasterTypeInfos": [
  {
   "name": "Raster Dataset",
   "description": "Supports all ArcGIS Raster Datasets",
   "help": ""
  }
 ],
 "mensurationCapabilities": "Basic",
 "hasHistograms": true,
 "hasColormap": false,
 "hasRasterAttributeTable": false,
 "minScale": 0,
 "maxScale": 0,
 "exportTilesAllowed": false,
 "supportsStatistics": false,
 "supportsAdvancedQueries": false,
 "editFieldsInfo": null,
 "ownershipBasedAccessControlForRasters": null,
 "allowComputeTiePoints": false,
 "useStandardizedQueries": true,
 "advancedQueryCapabilities": {
  "useStandardizedQueries": true,
  "supportsStatistics": false,
  "supportsOrderBy": false,
  "supportsDistinct": false,
  "supportsPagination": false
 },
 "spatialReference": {
  "wkid": 2100,
  "latestWkid": 2100
 }
}
