View In:
ArcGIS JavaScript
ArcGIS Online Map Viewer
ArcGIS Earth
Service Description: ATLAS/AGIA
Name: ATLAS/AGIA
Description:
Single Fused Map Cache: false
Extent:
XMin: 372037.8993262651
YMin: 4369137.122854843
XMax: 413842.7078796476
YMax: 4423051.104650363
Spatial Reference: 2100
(2100)
LatestVCSWkid(0)
Initial Extent:
XMin: 372037.8993262651
YMin: 4369137.122854843
XMax: 413842.7078796476
YMax: 4423051.104650363
Spatial Reference: 2100
(2100)
LatestVCSWkid(0)
Full Extent:
XMin: 372037.8993262651
YMin: 4369137.122854843
XMax: 413842.7078796476
YMax: 4423051.104650363
Spatial Reference: 2100
(2100)
LatestVCSWkid(0)
Pixel Size X: 7.040217001243267
Pixel Size Y: 7.040217001243213
Band Count: 3
Pixel Type: U8
RasterFunction Infos: {"rasterFunctionInfos": [{
"name": "None",
"description": "",
"help": ""
}]}
Mensuration Capabilities: Basic
Inspection Capabilities:
Has Histograms: true
Has Colormap: false
Has Multi Dimensions : false
Rendering Rule:
Min Scale: 0
Max Scale: 0
Copyright Text:
Service Data Type: esriImageServiceDataTypeRGB
Min Values: 0, 0, 0
Max Values: 255, 255, 255
Mean Values: 237.27144746614, 236.84430206412, 217.66857492605
Standard Deviation Values: 42.252918398242, 40.063768633026, 37.714984927895
Object ID Field:
Fields:
None
Default Mosaic Method: Center
Allowed Mosaic Methods:
SortField:
SortValue: null
Mosaic Operator: First
Default Compression Quality: 75
Default Resampling Method: Bilinear
Max Record Count: null
Max Image Height: 4100
Max Image Width: 15000
Max Download Image Count: null
Max Mosaic Image Count: null
Allow Raster Function: true
Allow Copy: true
Allow Analysis: true
Allow Compute TiePoints: false
Supports Statistics: false
Supports Advanced Queries: false
Use StandardizedQueries: true
Raster Type Infos:
Name: Raster Dataset
Description: Supports all ArcGIS Raster Datasets
Help:
Has Raster Attribute Table: false
Edit Fields Info: null
Ownership Based AccessControl For Rasters: null
Child Resources:
Info
Histograms
Statistics
Key Properties
Legend
Raster Function Infos
Supported Operations:
Export Image
Identify
Measure
Compute Histograms
Compute Statistics Histograms
Get Samples
Compute Class Statistics
Query Boundary
Compute Pixel Location
Compute Angles
Validate
Project