{
 "currentVersion": 11.4,
 "serviceDescription": "ATLAS/AGIA",
 "name": "ATLAS/AGIA",
 "description": "",
 "extent": {
  "xmin": 372037.8993262651,
  "ymin": 4369137.122854843,
  "xmax": 413842.7078796476,
  "ymax": 4423051.104650363,
  "spatialReference": {
   "wkid": 2100,
   "latestWkid": 2100
  }
 },
 "initialExtent": {
  "xmin": 372037.8993262651,
  "ymin": 4369137.122854843,
  "xmax": 413842.7078796476,
  "ymax": 4423051.104650363,
  "spatialReference": {
   "wkid": 2100,
   "latestWkid": 2100
  }
 },
 "fullExtent": {
  "xmin": 372037.8993262651,
  "ymin": 4369137.122854843,
  "xmax": 413842.7078796476,
  "ymax": 4423051.104650363,
  "spatialReference": {
   "wkid": 2100,
   "latestWkid": 2100
  }
 },
 "sortableFields": "",
 "bandCount": 3,
 "pixelType": "U8",
 "minValues": [
  0,
  0,
  0
 ],
 "maxValues": [
  255,
  255,
  255
 ],
 "meanValues": [
  237.27144746614,
  236.84430206412,
  217.66857492605
 ],
 "stdvValues": [
  42.252918398242,
  40.063768633026,
  37.714984927895
 ],
 "hasMultidimensions": false,
 "pixelSizeX": 7.040217001243267,
 "pixelSizeY": 7.040217001243213,
 "meanPixelSize": 7.04021700124324,
 "datasetFormat": "FGDBR",
 "uncompressedSize": 136419612,
 "blockWidth": 128,
 "blockHeight": 128,
 "compressionType": "LZ77",
 "bandNames": [
  "Band_1",
  "Band_2",
  "Band_3"
 ],
 "allowCopy": true,
 "allowAnalysis": true,
 "itemAccess": false,
 "inspectionCapabilities": "",
 "minPixelSize": 0,
 "maxPixelSize": 0,
 "copyrightText": "",
 "serviceDataType": "esriImageServiceDataTypeRGB",
 "serviceSourceType": "esriImageServiceSourceTypeDataset",
 "objectIdField": "",
 "fields": [],
 "capabilities": "Image,Metadata,Mensuration",
 "defaultMosaicMethod": "Center",
 "allowedMosaicMethods": "",
 "sortField": "",
 "sortValue": null,
 "sortAscending": true,
 "mosaicOperator": "First",
 "defaultCompressionQuality": 75,
 "defaultResamplingMethod": "Bilinear",
 "maxImageHeight": 4100,
 "maxImageWidth": 15000,
 "allowRasterFunction": true,
 "rasterFunctionInfos": [
  {
   "name": "None",
   "description": "",
   "help": ""
  }
 ],
 "rasterTypeInfos": [
  {
   "name": "Raster Dataset",
   "description": "Supports all ArcGIS Raster Datasets",
   "help": ""
  }
 ],
 "mensurationCapabilities": "Basic",
 "hasHistograms": true,
 "hasColormap": false,
 "hasRasterAttributeTable": false,
 "minScale": 0,
 "maxScale": 0,
 "exportTilesAllowed": false,
 "supportsStatistics": false,
 "supportsAdvancedQueries": false,
 "editFieldsInfo": null,
 "ownershipBasedAccessControlForRasters": null,
 "allowComputeTiePoints": false,
 "useStandardizedQueries": true,
 "advancedQueryCapabilities": {
  "useStandardizedQueries": true,
  "supportsStatistics": false,
  "supportsOrderBy": false,
  "supportsDistinct": false,
  "supportsPagination": false
 },
 "spatialReference": {
  "wkid": 2100,
  "latestWkid": 2100
 }
}
