View In:
ArcGIS JavaScript
ArcGIS Online Map Viewer
ArcGIS Earth
Service Description: DIAFORA/AM_OLD_MAP
Name: DIAFORA/AM_OLD_MAP
Description:
Single Fused Map Cache: false
Extent:
XMin: 2736969.2026308198
YMin: 3644021.3600359913
XMax: 5152324.766862196
YMax: 5274517.920339748
Spatial Reference: 102100
(3857)
LatestVCSWkid(0)
Initial Extent:
XMin: 2736969.2026308198
YMin: 3644021.3600359913
XMax: 5152324.766862196
YMax: 5274517.920339748
Spatial Reference: 102100
(3857)
LatestVCSWkid(0)
Full Extent:
XMin: 2736969.2026308198
YMin: 3644021.3600359913
XMax: 5152324.766862196
YMax: 5274517.920339748
Spatial Reference: 102100
(3857)
LatestVCSWkid(0)
Pixel Size X: 1086.5297185026434
Pixel Size Y: 1086.9977068691712
Band Count: 3
Pixel Type: U8
RasterFunction Infos: {"rasterFunctionInfos": [{
"name": "None",
"description": "",
"help": ""
}]}
Mensuration Capabilities: Basic
Inspection Capabilities:
Has Histograms: true
Has Colormap: false
Has Multi Dimensions : false
Rendering Rule:
Min Scale: 0
Max Scale: 0
Copyright Text:
Service Data Type: esriImageServiceDataTypeRGB
Min Values: 0, 0, 0
Max Values: 255, 255, 255
Mean Values: 218.7150922177238, 218.09084240515818, 209.76937861748388
Standard Deviation Values: 51.30178396550977, 53.43103593391623, 51.362265606888364
Object ID Field:
Fields:
None
Default Mosaic Method: Center
Allowed Mosaic Methods:
SortField:
SortValue: null
Mosaic Operator: First
Default Compression Quality: 75
Default Resampling Method: Bilinear
Max Record Count: null
Max Image Height: 4100
Max Image Width: 15000
Max Download Image Count: null
Max Mosaic Image Count: null
Allow Raster Function: true
Allow Copy: true
Allow Analysis: true
Allow Compute TiePoints: false
Supports Statistics: false
Supports Advanced Queries: false
Use StandardizedQueries: true
Raster Type Infos:
Name: Raster Dataset
Description: Supports all ArcGIS Raster Datasets
Help:
Has Raster Attribute Table: false
Edit Fields Info: null
Ownership Based AccessControl For Rasters: null
Child Resources:
Info
Histograms
Statistics
Key Properties
Legend
Raster Function Infos
Supported Operations:
Export Image
Identify
Measure
Compute Histograms
Compute Statistics Histograms
Get Samples
Compute Class Statistics
Query Boundary
Compute Pixel Location
Compute Angles
Validate
Project