View In:
ArcGIS JavaScript
ArcGIS Online Map Viewer
ArcGIS Earth
Service Description: ATLAS/PER_PROT
Name: ATLAS/PER_PROT
Description:
Single Fused Map Cache: false
Extent:
XMin: 451251.0847938363
YMin: 4170395.0215205234
XMax: 499894.5000737677
YMax: 4230868.0611362085
Spatial Reference: 2100
(2100)
LatestVCSWkid(0)
Initial Extent:
XMin: 451251.0847938363
YMin: 4170395.0215205234
XMax: 499894.5000737677
YMax: 4230868.0611362085
Spatial Reference: 2100
(2100)
LatestVCSWkid(0)
Full Extent:
XMin: 451251.0847938363
YMin: 4170395.0215205234
XMax: 499894.5000737677
YMax: 4230868.0611362085
Spatial Reference: 2100
(2100)
LatestVCSWkid(0)
Pixel Size X: 6.309132980535848
Pixel Size Y: 6.3091329802488385
Band Count: 3
Pixel Type: U16
RasterFunction Infos: {"rasterFunctionInfos": [{
"name": "None",
"description": "",
"help": ""
}]}
Mensuration Capabilities: Basic
Inspection Capabilities:
Has Histograms: true
Has Colormap: false
Has Multi Dimensions : false
Rendering Rule:
Min Scale: 0
Max Scale: 0
Copyright Text:
Service Data Type: esriImageServiceDataTypeGeneric
Min Values: 0, 0, 0
Max Values: 255, 255, 255
Mean Values: 208.37714978343, 210.6519306742, 167.6278310454
Standard Deviation Values: 56.84700462835, 59.114704669312, 66.489390903159
Object ID Field:
Fields:
None
Default Mosaic Method: Center
Allowed Mosaic Methods:
SortField:
SortValue: null
Mosaic Operator: First
Default Compression Quality: 75
Default Resampling Method: Bilinear
Max Record Count: null
Max Image Height: 4100
Max Image Width: 15000
Max Download Image Count: null
Max Mosaic Image Count: null
Allow Raster Function: true
Allow Copy: true
Allow Analysis: true
Allow Compute TiePoints: false
Supports Statistics: false
Supports Advanced Queries: false
Use StandardizedQueries: true
Raster Type Infos:
Name: Raster Dataset
Description: Supports all ArcGIS Raster Datasets
Help:
Has Raster Attribute Table: false
Edit Fields Info: null
Ownership Based AccessControl For Rasters: null
Child Resources:
Info
Histograms
Statistics
Key Properties
Legend
Raster Function Infos
Supported Operations:
Export Image
Identify
Measure
Compute Histograms
Compute Statistics Histograms
Get Samples
Compute Class Statistics
Query Boundary
Compute Pixel Location
Compute Angles
Validate
Project