View In:
ArcGIS JavaScript
ArcGIS Online Map Viewer
ArcGIS Earth
Service Description: ATLAS/AIGION_C
Name: ATLAS/AIGION_C
Description:
Single Fused Map Cache: false
Extent:
XMin: 310931.28423282993
YMin: 4196428.84646576
XMax: 375328.48831057607
YMax: 4246937.289045013
Spatial Reference: 2100
(2100)
LatestVCSWkid(0)
Initial Extent:
XMin: 310931.28423282993
YMin: 4196428.84646576
XMax: 375328.48831057607
YMax: 4246937.289045013
Spatial Reference: 2100
(2100)
LatestVCSWkid(0)
Full Extent:
XMin: 310931.28423282993
YMin: 4196428.84646576
XMax: 375328.48831057607
YMax: 4246937.289045013
Spatial Reference: 2100
(2100)
LatestVCSWkid(0)
Pixel Size X: 7.068072009411276
Pixel Size Y: 7.068072009411229
Band Count: 3
Pixel Type: U8
RasterFunction Infos: {"rasterFunctionInfos": [{
"name": "None",
"description": "",
"help": ""
}]}
Mensuration Capabilities: Basic
Inspection Capabilities:
Has Histograms: true
Has Colormap: false
Has Multi Dimensions : false
Rendering Rule:
Min Scale: 0
Max Scale: 0
Copyright Text:
Service Data Type: esriImageServiceDataTypeRGB
Min Values: 0, 0, 0
Max Values: 255, 255, 255
Mean Values: 224.89377920778, 223.13919774107, 199.34838447838
Standard Deviation Values: 59.412219705568, 58.903317205104, 56.444952164743
Object ID Field:
Fields:
None
Default Mosaic Method: Center
Allowed Mosaic Methods:
SortField:
SortValue: null
Mosaic Operator: First
Default Compression Quality: 75
Default Resampling Method: Bilinear
Max Record Count: null
Max Image Height: 4100
Max Image Width: 15000
Max Download Image Count: null
Max Mosaic Image Count: null
Allow Raster Function: true
Allow Copy: true
Allow Analysis: true
Allow Compute TiePoints: false
Supports Statistics: false
Supports Advanced Queries: false
Use StandardizedQueries: true
Raster Type Infos:
Name: Raster Dataset
Description: Supports all ArcGIS Raster Datasets
Help:
Has Raster Attribute Table: false
Edit Fields Info: null
Ownership Based AccessControl For Rasters: null
Child Resources:
Info
Histograms
Statistics
Key Properties
Legend
Raster Function Infos
Supported Operations:
Export Image
Identify
Measure
Compute Histograms
Compute Statistics Histograms
Get Samples
Compute Class Statistics
Query Boundary
Compute Pixel Location
Compute Angles
Validate
Project