<?xml version="1.0" encoding="UTF-8" standalone="no"?>
<metadata xml:lang="el">
<Esri>
<CreaDate>20240212</CreaDate>
<CreaTime>12560700</CreaTime>
<ArcGISFormat>1.0</ArcGISFormat>
<SyncOnce>FALSE</SyncOnce>
<DataProperties>
<itemProps>
<itemName Sync="TRUE">ASIA_MINOR</itemName>
<imsContentType Sync="TRUE">002</imsContentType>
<nativeExtBox>
<westBL Sync="TRUE">-0.500000</westBL>
<eastBL Sync="TRUE">2222.500000</eastBL>
<southBL Sync="TRUE">-1499.500000</southBL>
<northBL Sync="TRUE">0.500000</northBL>
<exTypeCode Sync="TRUE">1</exTypeCode>
</nativeExtBox>
<itemLocation>
<linkage Sync="TRUE">file://\\PC-SOLON\D$\DOCUMENTS\ΓΕΩΓΡΑΦΙΚΑ\ΑΡΧΕΙΑ_PROJECTS\KATALOGOS01\GEOANAFORA.gdb</linkage>
<protocol Sync="TRUE">Local Area Network</protocol>
</itemLocation>
</itemProps>
<lineage>
<Process Date="20240212" Time="125607" ToolSource="c:\program files\arcgis\pro\Resources\ArcToolbox\toolboxes\Data Management Tools.tbx\CopyRaster">CopyRaster ASIA_MINOR D:\DOCUMENTS\ΓΕΩΓΡΑΦΙΚΑ\ΑΡΧΕΙΑ_PROJECTS\KATALOGOS01\GEOANAFORA.gdb\ASIA_MINOR # # # NONE NONE # NONE NONE "Esri Grid format" NONE CURRENT_SLICE NO_TRANSPOSE</Process>
<Process Date="20240212" Time="131033" ToolSource="c:\program files\arcgis\pro\Resources\ArcToolbox\toolboxes\Data Management Tools.tbx\Rename">Rename D:\DOCUMENTS\ΓΕΩΓΡΑΦΙΚΑ\ΑΡΧΕΙΑ_PROJECTS\KATALOGOS01\GEOANAFORA.gdb\ASIA_MINOR D:\DOCUMENTS\ΓΕΩΓΡΑΦΙΚΑ\ΑΡΧΕΙΑ_PROJECTS\KATALOGOS01\GEOANAFORA.gdb\ASIA_MINOR_jpg RasterDataset</Process>
<Process Date="20240811" Time="145746" ToolSource="c:\program files\arcgis\pro\Resources\ArcToolbox\Toolboxes\Data Management Tools.tbx\CopyMultiple">CopyMultiple "E:\DOCS\ΓΕΩΓΡΑΦΙΚΑ\ΑΡΧΕΙΑ_PROJECTS\KATALOGOS01\GEOANAFORA.gdb\ASIA_MINOR_jpg RasterDataset;E:\DOCS\ΓΕΩΓΡΑΦΙΚΑ\ΑΡΧΕΙΑ_PROJECTS\KATALOGOS01\GEOANAFORA.gdb\ASIA_MINOR_tif RasterDataset;E:\DOCS\ΓΕΩΓΡΑΦΙΚΑ\ΑΡΧΕΙΑ_PROJECTS\KATALOGOS01\GEOANAFORA.gdb\ASIA_MINOR_tif_bw RasterDataset" E:\DOCS\ΓΕΩΓΡΑΦΙΚΑ\ΑΡΧΕΙΑ_PROJECTS\KATALOGOS01\ASIA_MINOR.gdb ASIA_MINOR_jpg;ASIA_MINOR_tif;ASIA_MINOR_tif_bw "ASIA_MINOR_jpg RasterDataset ASIA_MINOR_jpg #;ASIA_MINOR_tif RasterDataset ASIA_MINOR_tif #;ASIA_MINOR_tif_bw RasterDataset ASIA_MINOR_tif_bw #"</Process>
<Process Date="20240814" Time="085516" ToolSource="c:\program files\arcgis\pro\Resources\ArcToolbox\Toolboxes\Data Management Tools.tbx\Rename">Rename D:\DOCUMENTS\ΓΕΩΓΡΑΦΙΚΑ\ΑΡΧΕΙΑ_PROJECTS\KATALOGOS01\ASIA_MINOR.gdb\ASIA_MINOR_jpg D:\DOCUMENTS\ΓΕΩΓΡΑΦΙΚΑ\ΑΡΧΕΙΑ_PROJECTS\KATALOGOS01\ASIA_MINOR.gdb\AM_OLD_MAP RasterDataset</Process>
</lineage>
</DataProperties>
<SyncDate>20240212</SyncDate>
<SyncTime>12560700</SyncTime>
<ModDate>20240212</ModDate>
<ModTime>12560700</ModTime>
</Esri>
<dataIdInfo>
<envirDesc Sync="TRUE">Microsoft Windows 10 Version 10.0 (Build 19045) ; Esri ArcGIS 13.2.2.49743</envirDesc>
<dataLang>
<languageCode Sync="TRUE" value="ell"/>
<countryCode Sync="TRUE" value="GRC"/>
</dataLang>
<idCitation>
<resTitle Sync="TRUE">AM_OLD_MAP</resTitle>
<presForm>
<PresFormCd Sync="TRUE" value="011"/>
</presForm>
</idCitation>
<spatRpType>
<SpatRepTypCd Sync="TRUE" value="002"/>
</spatRpType>
<idAbs/>
<searchKeys>
<keyword>GAGA</keyword>
</searchKeys>
<idPurp>AM_OLD_MAP</idPurp>
<idCredit/>
<resConst>
<Consts>
<useLimit/>
</Consts>
</resConst>
</dataIdInfo>
<mdLang>
<languageCode Sync="TRUE" value="ell"/>
<countryCode Sync="TRUE" value="GRC"/>
</mdLang>
<distInfo>
<distFormat>
<formatName Sync="TRUE">File Geodatabase Raster Dataset</formatName>
</distFormat>
</distInfo>
<mdHrLv>
<ScopeCd Sync="TRUE" value="005"/>
</mdHrLv>
<mdHrLvName Sync="TRUE">dataset</mdHrLvName>
<spdoinfo>
<rastinfo>
<rasttype Sync="TRUE">Pixel</rasttype>
<rowcount Sync="TRUE">1500</rowcount>
<colcount Sync="TRUE">2223</colcount>
<rastxsz Sync="TRUE">1,000000</rastxsz>
<rastysz Sync="TRUE">1,000000</rastysz>
<rastbpp Sync="TRUE">8</rastbpp>
<vrtcount Sync="TRUE">1</vrtcount>
<rastorig Sync="TRUE">Upper Left</rastorig>
<rastcmap Sync="TRUE">FALSE</rastcmap>
<rastcomp Sync="TRUE">LZ77</rastcomp>
<rastband Sync="TRUE">3</rastband>
<rastdtyp Sync="TRUE">pixel codes</rastdtyp>
<rastifor Sync="TRUE">FGDBR</rastifor>
<rastplyr Sync="TRUE">TRUE</rastplyr>
</rastinfo>
</spdoinfo>
<spref>
<horizsys>
<planar>
<planci>
<plance Sync="TRUE">row and column</plance>
<coordrep>
<absres Sync="TRUE">1,000000</absres>
<ordres Sync="TRUE">1,000000</ordres>
</coordrep>
</planci>
</planar>
</horizsys>
</spref>
<mdDateSt Sync="TRUE">20240212</mdDateSt>
</metadata>
